BEGIN:VCALENDAR
VERSION:2.0
PRODID:-//RIGHTHERE//CALENDARIZE IT V3.2//EN
BEGIN:VTIMEZONE
TZID:America/New_York
X-MICROSOFT-CDO-TZID:10
BEGIN:STANDARD
DTSTART:20251102T060000
TZOFFSETFROM:-0400
TZOFFSETTO:-0500
TZNAME:EST
END:STANDARD
BEGIN:DAYLIGHT
DTSTART:20260308T070000
TZOFFSETFROM:-0500
TZOFFSETTO:-0400
TZNAME:EDT
END:DAYLIGHT
BEGIN:STANDARD
DTSTART:20261101T060000
TZOFFSETFROM:-0400
TZOFFSETTO:-0500
TZNAME:EST
END:STANDARD
END:VTIMEZONE
BEGIN:VEVENT
UID:31350-events@yourlocalkids.com
DTSTART;TZID=America/New_York:20260203T113000
DTEND;TZID=America/New_York:20260203T120000
DTSTAMP;TZID=America/New_York:20230119T134614
SUMMARY:Music and Movement
RRULE:FREQ=WEEKLY;INTERVAL=1;UNTIL=20260428
EXDATE:20260217T153000Z
URL:https://yourlocalkids.com/events/music-and-movement-36/
LOCATION:11 Davis Avenue\, Garden City\, NY 11530
END:VEVENT
END:VCALENDAR