BEGIN:VCALENDAR
VERSION:2.0
PRODID:-//RIGHTHERE//CALENDARIZE IT V3.2//EN
BEGIN:VTIMEZONE
TZID:America/New_York
X-MICROSOFT-CDO-TZID:10
BEGIN:STANDARD
DTSTART:20251102T060000
TZOFFSETFROM:-0400
TZOFFSETTO:-0500
TZNAME:EST
END:STANDARD
BEGIN:DAYLIGHT
DTSTART:20260308T070000
TZOFFSETFROM:-0500
TZOFFSETTO:-0400
TZNAME:EDT
END:DAYLIGHT
BEGIN:STANDARD
DTSTART:20261101T060000
TZOFFSETFROM:-0400
TZOFFSETTO:-0500
TZNAME:EST
END:STANDARD
END:VTIMEZONE
BEGIN:VEVENT
UID:31605-events@yourlocalkids.com
DTSTART;TZID=America/New_York:20260418T100000
DTEND;TZID=America/New_York:20260418T000000
DTSTAMP;TZID=America/New_York:20230209T150236
SUMMARY:Oasis Day Camps at LIU Post Open House
RRULE:FREQ=WEEKLY;INTERVAL=1;UNTIL=20260425
URL:https://yourlocalkids.com/events/oasis-day-camps-in-person-info-session-liu-post-6/
LOCATION:720 Northern Blvd\, Brookville\, NY 11545
END:VEVENT
END:VCALENDAR