BEGIN:VCALENDAR
VERSION:2.0
PRODID:-//RIGHTHERE//CALENDARIZE IT V3.2//EN
BEGIN:VTIMEZONE
TZID:America/New_York
X-MICROSOFT-CDO-TZID:10
BEGIN:STANDARD
DTSTART:20251102T060000
TZOFFSETFROM:-0400
TZOFFSETTO:-0500
TZNAME:EST
END:STANDARD
BEGIN:DAYLIGHT
DTSTART:20260308T070000
TZOFFSETFROM:-0500
TZOFFSETTO:-0400
TZNAME:EDT
END:DAYLIGHT
BEGIN:STANDARD
DTSTART:20261101T060000
TZOFFSETFROM:-0400
TZOFFSETTO:-0500
TZNAME:EST
END:STANDARD
END:VTIMEZONE
BEGIN:VEVENT
UID:32217-events@yourlocalkids.com
DTSTART;TZID=America/New_York:20260419T090000
DTEND;TZID=America/New_York:20260419T110000
DTSTAMP;TZID=America/New_York:20230413T165849
SUMMARY:Camps ‘R’ Us Syosset Open House
URL:https://yourlocalkids.com/events/camps-r-us-syosset-open-house-4/
LOCATION:205 Jackson Avenue\, Syosset\, NY 11791
END:VEVENT
END:VCALENDAR