BEGIN:VCALENDAR
VERSION:2.0
PRODID:-//RIGHTHERE//CALENDARIZE IT V3.2//EN
BEGIN:VTIMEZONE
TZID:America/New_York
X-MICROSOFT-CDO-TZID:10
BEGIN:STANDARD
DTSTART:20251102T060000
TZOFFSETFROM:-0400
TZOFFSETTO:-0500
TZNAME:EST
END:STANDARD
BEGIN:DAYLIGHT
DTSTART:20260308T070000
TZOFFSETFROM:-0500
TZOFFSETTO:-0400
TZNAME:EDT
END:DAYLIGHT
BEGIN:STANDARD
DTSTART:20261101T060000
TZOFFSETFROM:-0400
TZOFFSETTO:-0500
TZNAME:EST
END:STANDARD
END:VTIMEZONE
BEGIN:VEVENT
UID:34838-events@yourlocalkids.com
DTSTART;TZID=America/New_York:20240314T193000
DTEND;TZID=America/New_York:20240314T000000
DTSTAMP;TZID=America/New_York:20240118T151331
SUMMARY:Camp W Day Camp Virtual Open House
URL:https://yourlocalkids.com/events/camp-w-day-camp-virtual-open-house/
END:VEVENT
END:VCALENDAR