BEGIN:VCALENDAR
VERSION:2.0
PRODID:-//RIGHTHERE//CALENDARIZE IT V3.2//EN
BEGIN:VTIMEZONE
TZID:America/New_York
X-MICROSOFT-CDO-TZID:10
BEGIN:STANDARD
DTSTART:20251102T060000
TZOFFSETFROM:-0400
TZOFFSETTO:-0500
TZNAME:EST
END:STANDARD
BEGIN:DAYLIGHT
DTSTART:20260308T070000
TZOFFSETFROM:-0500
TZOFFSETTO:-0400
TZNAME:EDT
END:DAYLIGHT
BEGIN:STANDARD
DTSTART:20261101T060000
TZOFFSETFROM:-0400
TZOFFSETTO:-0500
TZNAME:EST
END:STANDARD
END:VTIMEZONE
BEGIN:VEVENT
UID:40477-events@yourlocalkids.com
DTSTART;TZID=America/New_York:20251213T100000
DTEND;TZID=America/New_York:20251213T133000
DTSTAMP;TZID=America/New_York:20241218T174632
SUMMARY:Breakfast or Lunch & Pictures with Santa
URL:https://yourlocalkids.com/events/breakfast-or-lunch-pictures-with-santa/
LOCATION:56 Tanners Lane\, Levittown\, NY 11756
END:VEVENT
END:VCALENDAR