BEGIN:VCALENDAR
VERSION:2.0
PRODID:-//RIGHTHERE//CALENDARIZE IT V3.2//EN
BEGIN:VTIMEZONE
TZID:America/New_York
X-MICROSOFT-CDO-TZID:10
BEGIN:STANDARD
DTSTART:20251102T060000
TZOFFSETFROM:-0400
TZOFFSETTO:-0500
TZNAME:EST
END:STANDARD
BEGIN:DAYLIGHT
DTSTART:20260308T070000
TZOFFSETFROM:-0500
TZOFFSETTO:-0400
TZNAME:EDT
END:DAYLIGHT
BEGIN:STANDARD
DTSTART:20261101T060000
TZOFFSETFROM:-0400
TZOFFSETTO:-0500
TZNAME:EST
END:STANDARD
END:VTIMEZONE
BEGIN:VEVENT
UID:41231-events@yourlocalkids.com
DTSTART;TZID=America/New_York:20260425T103000
DTEND;TZID=America/New_York:20260425T000000
DTSTAMP;TZID=America/New_York:20250130T150542
SUMMARY:Disney’s Descendants: The Musical
RRULE:FREQ=WEEKLY;INTERVAL=1;UNTIL=20260606
RDATE:20260426T143000Z,20260503T143000Z,20260510T143000Z,20260517T143000Z,20260524T143000Z,20260531T143000Z,20260607T143000Z
URL:https://yourlocalkids.com/events/disneys-descendants-the-musical/
LOCATION:34 West Main Street\, Babylon\, New York 11702
END:VEVENT
END:VCALENDAR