BEGIN:VCALENDAR
VERSION:2.0
PRODID:-//RIGHTHERE//CALENDARIZE IT V3.2//EN
BEGIN:VTIMEZONE
TZID:America/New_York
X-MICROSOFT-CDO-TZID:10
BEGIN:STANDARD
DTSTART:20251102T060000
TZOFFSETFROM:-0400
TZOFFSETTO:-0500
TZNAME:EST
END:STANDARD
BEGIN:DAYLIGHT
DTSTART:20260308T070000
TZOFFSETFROM:-0500
TZOFFSETTO:-0400
TZNAME:EDT
END:DAYLIGHT
BEGIN:STANDARD
DTSTART:20261101T060000
TZOFFSETFROM:-0400
TZOFFSETTO:-0500
TZNAME:EST
END:STANDARD
END:VTIMEZONE
BEGIN:VEVENT
UID:43311-events@yourlocalkids.com
DTSTART;VALUE=DATE:20250625
DTEND;VALUE=DATE:20250625
DTSTAMP;TZID=America/New_York:20250611T101338
SUMMARY:St. Anthony’s Family Feast & Festival!
RRULE:FREQ=DAILY;INTERVAL=1;UNTIL=20250628
URL:https://yourlocalkids.com/events/anthonys-family-feast-festival/
END:VEVENT
END:VCALENDAR