BEGIN:VCALENDAR
VERSION:2.0
PRODID:-//RIGHTHERE//CALENDARIZE IT V3.2//EN
BEGIN:VTIMEZONE
TZID:America/New_York
X-MICROSOFT-CDO-TZID:10
BEGIN:STANDARD
DTSTART:20251102T060000
TZOFFSETFROM:-0400
TZOFFSETTO:-0500
TZNAME:EST
END:STANDARD
BEGIN:DAYLIGHT
DTSTART:20260308T070000
TZOFFSETFROM:-0500
TZOFFSETTO:-0400
TZNAME:EDT
END:DAYLIGHT
BEGIN:STANDARD
DTSTART:20261101T060000
TZOFFSETFROM:-0400
TZOFFSETTO:-0500
TZNAME:EST
END:STANDARD
END:VTIMEZONE
BEGIN:VEVENT
UID:43714-events@yourlocalkids.com
DTSTART;TZID=America/New_York:20260418T110000
DTEND;TZID=America/New_York:20260418T000000
DTSTAMP;TZID=America/New_York:20250630T160349
SUMMARY:Family Attraction & Activities
RRULE:FREQ=DAILY;INTERVAL=1;UNTIL=20260426
EXDATE:20260420T150000Z,20260421T150000Z,20260422T150000Z,20260423T150000Z,20260424T150000Z
URL:https://yourlocalkids.com/events/family-attraction-activities-7/
LOCATION:Adventureland Amusement Park
END:VEVENT
END:VCALENDAR