BEGIN:VCALENDAR
VERSION:2.0
PRODID:-//RIGHTHERE//CALENDARIZE IT V3.2//EN
BEGIN:VTIMEZONE
TZID:America/New_York
X-MICROSOFT-CDO-TZID:10
BEGIN:STANDARD
DTSTART:20251102T060000
TZOFFSETFROM:-0400
TZOFFSETTO:-0500
TZNAME:EST
END:STANDARD
BEGIN:DAYLIGHT
DTSTART:20260308T070000
TZOFFSETFROM:-0500
TZOFFSETTO:-0400
TZNAME:EDT
END:DAYLIGHT
BEGIN:STANDARD
DTSTART:20261101T060000
TZOFFSETFROM:-0400
TZOFFSETTO:-0500
TZNAME:EST
END:STANDARD
END:VTIMEZONE
BEGIN:VEVENT
UID:44142-events@yourlocalkids.com
DTSTART;VALUE=DATE:20250829
DTEND;VALUE=DATE:20250829
DTSTAMP;TZID=America/New_York:20250806T140723
SUMMARY:YMCA Fall Program Registration Now Open
URL:https://yourlocalkids.com/events/ymca-fall-program-registration-now-open/
END:VEVENT
END:VCALENDAR