BEGIN:VCALENDAR
VERSION:2.0
PRODID:-//RIGHTHERE//CALENDARIZE IT V3.2//EN
BEGIN:VTIMEZONE
TZID:America/New_York
X-MICROSOFT-CDO-TZID:10
BEGIN:STANDARD
DTSTART:20251102T060000
TZOFFSETFROM:-0400
TZOFFSETTO:-0500
TZNAME:EST
END:STANDARD
BEGIN:DAYLIGHT
DTSTART:20260308T070000
TZOFFSETFROM:-0500
TZOFFSETTO:-0400
TZNAME:EDT
END:DAYLIGHT
BEGIN:STANDARD
DTSTART:20261101T060000
TZOFFSETFROM:-0400
TZOFFSETTO:-0500
TZNAME:EST
END:STANDARD
END:VTIMEZONE
BEGIN:VEVENT
UID:46337-events@yourlocalkids.com
DTSTART;VALUE=DATE:20260307
DTEND;VALUE=DATE:20260307
DTSTAMP;TZID=America/New_York:20260224T174608
SUMMARY:Park Shore Camp Tours
RRULE:FREQ=WEEKLY;INTERVAL=1;UNTIL=20260328
EXDATE:20260321
RDATE:20260322T000000
URL:https://yourlocalkids.com/events/park-shore-camp-tours/
LOCATION:450 Deer Park Road\, Dix Hills\, NY 11746
END:VEVENT
END:VCALENDAR