BEGIN:VCALENDAR
VERSION:2.0
PRODID:-//RIGHTHERE//CALENDARIZE IT V3.2//EN
BEGIN:VTIMEZONE
TZID:America/New_York
X-MICROSOFT-CDO-TZID:10
BEGIN:STANDARD
DTSTART:20251102T060000
TZOFFSETFROM:-0400
TZOFFSETTO:-0500
TZNAME:EST
END:STANDARD
BEGIN:DAYLIGHT
DTSTART:20260308T070000
TZOFFSETFROM:-0500
TZOFFSETTO:-0400
TZNAME:EDT
END:DAYLIGHT
BEGIN:STANDARD
DTSTART:20261101T060000
TZOFFSETFROM:-0400
TZOFFSETTO:-0500
TZNAME:EST
END:STANDARD
END:VTIMEZONE
BEGIN:VEVENT
UID:47102-events@yourlocalkids.com
DTSTART;TZID=America/New_York:20260418T100000
DTEND;TZID=America/New_York:20260418T170000
DTSTAMP;TZID=America/New_York:20260416T161943
SUMMARY:Apple Blossom Carnival
RRULE:FREQ=DAILY;INTERVAL=1;UNTIL=20260426
EXDATE:20260420T140000Z,20260421T140000Z,20260422T140000Z,20260423T140000Z,20260424T140000Z
URL:https://yourlocalkids.com/events/apple-blossom-carnival/
END:VEVENT
END:VCALENDAR