BEGIN:VCALENDAR
VERSION:2.0
PRODID:-//RIGHTHERE//CALENDARIZE IT V3.2//EN
BEGIN:VTIMEZONE
TZID:America/New_York
X-MICROSOFT-CDO-TZID:10
BEGIN:STANDARD
DTSTART:20251102T060000
TZOFFSETFROM:-0400
TZOFFSETTO:-0500
TZNAME:EST
END:STANDARD
BEGIN:DAYLIGHT
DTSTART:20260308T070000
TZOFFSETFROM:-0500
TZOFFSETTO:-0400
TZNAME:EDT
END:DAYLIGHT
BEGIN:STANDARD
DTSTART:20261101T060000
TZOFFSETFROM:-0400
TZOFFSETTO:-0500
TZNAME:EST
END:STANDARD
END:VTIMEZONE
BEGIN:VEVENT
UID:47106-events@yourlocalkids.com
DTSTART;TZID=America/New_York:20260419T130000
DTEND;TZID=America/New_York:20260419T150000
DTSTAMP;TZID=America/New_York:20260416T162752
SUMMARY:Earth Day is Every Day
URL:https://yourlocalkids.com/events/earth-day-is-every-day/
LOCATION:62 Eckernkamp Drive\, Smithtown\, NY 11787
END:VEVENT
END:VCALENDAR